BEGIN:VCALENDAR
VERSION:2.0
PRODID:-//Ironwood Cancer &amp; Research Centers - ECPv6.15.20//NONSGML v1.0//EN
CALSCALE:GREGORIAN
METHOD:PUBLISH
X-WR-CALNAME:Ironwood Cancer &amp; Research Centers
X-ORIGINAL-URL:https://www.ironwoodcrc.com
X-WR-CALDESC:Events for Ironwood Cancer &amp; Research Centers
REFRESH-INTERVAL;VALUE=DURATION:PT1H
X-Robots-Tag:noindex
X-PUBLISHED-TTL:PT1H
BEGIN:VTIMEZONE
TZID:America/Phoenix
BEGIN:STANDARD
TZOFFSETFROM:-0700
TZOFFSETTO:-0700
TZNAME:MST
DTSTART:20250101T000000
END:STANDARD
END:VTIMEZONE
BEGIN:VEVENT
DTSTART;TZID=America/Phoenix:20260317T100000
DTEND;TZID=America/Phoenix:20260317T104500
DTSTAMP:20260422T093321
CREATED:20260224T150807Z
LAST-MODIFIED:20260224T150807Z
UID:10007077-1773741600-1773744300@www.ironwoodcrc.com
SUMMARY:Therapeutic Movement for Cancer Recovery with Christy Shaft\, PT (At Scottsdale)
DESCRIPTION:Join us Every Every Tuesday of the month from 10:00 am to 10:45 am. This 45-minute class offers a soothing yet invigorating flow that combines gentle movement with purposeful breathwork. You’ll experience a balanced blend of dynamic stretching\, mobility exercises\, and balance training to enhance flexibility\, coordination\, and overall well-being. The session also focuses on promoting lymph fluid circulation\, helping to detoxify and energize the body. \nThroughout the class\, you’ll learn practical breath techniques that not only deepen your practice but also equip you with tools to manage stress\, anxiety\, and other everyday challenges with greater ease and calm. Whether you’re new to movement or a seasoned practitioner\, this class invites you to embrace the transformative power of mindful movement and breath\, empowering you to carry this sense of peace and vitality beyond the studio.
URL:https://www.ironwoodcrc.com/events/therapeutic-movement-for-cancer-recovery-with-christy-shaft-pt-at-scottsdale-21/
LOCATION:Ironwood Cancer & Research Centers- Scottsdale\, 8880 E Desert Cove Ave\, Scottsdale\, AZ\, 85260\, United States
CATEGORIES:Fitness Classes,Wellness Classes
ATTACH;FMTTYPE=image/jpeg:https://www.ironwoodcrc.com/wp-content/uploads/2025/03/R.jpeg
END:VEVENT
BEGIN:VEVENT
DTSTART;TZID=America/Phoenix:20260317T130000
DTEND;TZID=America/Phoenix:20260317T140000
DTSTAMP:20260422T093321
CREATED:20260224T150225Z
LAST-MODIFIED:20260224T150225Z
UID:10007074-1773752400-1773756000@www.ironwoodcrc.com
SUMMARY:Yoga (at Glendale)
DESCRIPTION:Step onto your mat and take time to reconnect with yourself in this supportive\, all-levels yoga class. Through intentional movement and steady breathing\, you’ll cultivate strength\, flexibility\, and a greater sense of calm—leaving each session feeling refreshed and grounded. \nRooted in traditional yoga teachings and modern alignment principles\, this class moves at a steady\, accessible pace. Each session begins with gentle warm-ups\, builds into a thoughtfully sequenced flow of postures\, and concludes with guided relaxation to restore both body and mind. \n\n\n\n\n\n\nYou don’t have to navigate your cancer journey alone. Research demonstrates that individuals who participate in support groups during their cancer treatment enjoy a wealth of positive benefits.\n\n\n\n\n\n\nAt Ironwood\, we are here for our patients\, offering Support Groups that are welcoming to everyone in the community affected by cancer. Unless otherwise specified\, all our services are provided free of charge. \nFor further details about any of our services\, please reach out to Supportive Care Services at 480-314-6660.
URL:https://www.ironwoodcrc.com/events/yoga-at-glendale/
LOCATION:Ironwood Cancer Center in Glendale\, 5810 W. Beverly Ln\, Glendale\, 85306\, United States
CATEGORIES:Fitness Classes
ATTACH;FMTTYPE=image/webp:https://www.ironwoodcrc.com/wp-content/uploads/2026/02/download-5.webp
END:VEVENT
END:VCALENDAR