BEGIN:VCALENDAR
VERSION:2.0
PRODID:-//Ironwood Cancer &amp; Research Centers - ECPv6.15.20//NONSGML v1.0//EN
CALSCALE:GREGORIAN
METHOD:PUBLISH
X-WR-CALNAME:Ironwood Cancer &amp; Research Centers
X-ORIGINAL-URL:https://www.ironwoodcrc.com
X-WR-CALDESC:Events for Ironwood Cancer &amp; Research Centers
REFRESH-INTERVAL;VALUE=DURATION:PT1H
X-Robots-Tag:noindex
X-PUBLISHED-TTL:PT1H
BEGIN:VTIMEZONE
TZID:America/Phoenix
BEGIN:STANDARD
TZOFFSETFROM:-0700
TZOFFSETTO:-0700
TZNAME:MST
DTSTART:20250101T000000
END:STANDARD
END:VTIMEZONE
BEGIN:VEVENT
DTSTART;TZID=America/Phoenix:20260205T100000
DTEND;TZID=America/Phoenix:20260205T104500
DTSTAMP:20260419T064615
CREATED:20260129T171738Z
LAST-MODIFIED:20260129T171738Z
UID:10007039-1770285600-1770288300@www.ironwoodcrc.com
SUMMARY:Tai Chi (Online)
DESCRIPTION:Join us for our Tai Chi class\, held online on the 1st\, 2nd\, and 3rd Thursday of each month from 10:00-10:45 AM (unless noted). Tai Chi is a gentle\, flowing form of exercise that combines slow movements\, deep breathing\, and mental focus to enhance balance\, flexibility\, and relaxation. Often referred to as “meditation in motion\,” Tai Chi is known for its calming effects and ability to improve overall well-being. \nWhether you’re new to Tai Chi or have been practicing for a while\, this class is open to all skill levels. Experience the mental clarity and physical benefits that come with this ancient practice. \n\nYou don’t have to navigate your cancer journey alone. Research demonstrates that individuals who participate in support groups during their cancer treatment enjoy a wealth of positive benefits. \nAt Ironwood\, we are here for our patients\, offering Support Groups that are welcoming to everyone in the community affected by cancer. Unless otherwise specified\, all our services are provided free of charge. \nFor further details about any of our services\, please reach out to Supportive Care Services at 480-314-6660.
URL:https://www.ironwoodcrc.com/events/tai-chi-online-42/
CATEGORIES:Fitness Classes
ATTACH;FMTTYPE=image/png:https://www.ironwoodcrc.com/wp-content/uploads/2024/10/Calendar-Photos-3.png
END:VEVENT
BEGIN:VEVENT
DTSTART;TZID=America/Phoenix:20260205T110000
DTEND;TZID=America/Phoenix:20260205T120000
DTSTAMP:20260419T064615
CREATED:20260129T174050Z
LAST-MODIFIED:20260129T174050Z
UID:10007050-1770289200-1770292800@www.ironwoodcrc.com
SUMMARY:Tai Chi with Frank Sasso (at Glendale)
DESCRIPTION:Join us for our Tai Chi class\, held at Glendale\, every Thursday of each month from 11:00-12:00 PM (unless noted). Tai Chi is a gentle\, flowing form of exercise that combines slow movements\, deep breathing\, and mental focus to enhance balance\, flexibility\, and relaxation. Often referred to as “meditation in motion\,” Tai Chi is known for its calming effects and ability to improve overall well-being. \nTai Chi is often suggested for older adults—it has a well-deserved reputation for preventing falls. I recommend anybody of all ages and occupations try Tai Chi\,” Tai Chi is a flexible\, adaptable form of exercise for anyone.” Tai Chi is even acceptable for those with little or no athletic background. “Tai Chi is known to be a suitable activity for older people\, including those who are not active.” \nWhether you’re new to Tai Chi or have been practicing for a while\, this class is open to all skill levels. Experience the mental clarity and physical benefits that come with this ancient practice. \n\nYou don’t have to navigate your cancer journey alone. Research demonstrates that individuals who participate in support groups during their cancer treatment enjoy a wealth of positive benefits. \nAt Ironwood\, we are here for our patients\, offering Support Groups that are welcoming to everyone in the community affected by cancer. Unless otherwise specified\, all our services are provided free of charge. \nFor further details about any of our services\, please reach out to Supportive Care Services at 480-314-6660. \n 
URL:https://www.ironwoodcrc.com/events/tai-chi-with-frank-sasso-at-glendale-2/
LOCATION:Ironwood Cancer Center in Glendale\, 5810 W. Beverly Ln\, Glendale\, 85306\, United States
CATEGORIES:Fitness Classes
ATTACH;FMTTYPE=image/webp:https://www.ironwoodcrc.com/wp-content/uploads/2025/12/OIP-19.webp
END:VEVENT
BEGIN:VEVENT
DTSTART;TZID=America/Phoenix:20260209T180000
DTEND;TZID=America/Phoenix:20260209T190000
DTSTAMP:20260419T064615
CREATED:20260129T172822Z
LAST-MODIFIED:20260129T172822Z
UID:10007044-1770660000-1770663600@www.ironwoodcrc.com
SUMMARY:Prostate Support Group (Online and In-Person)
DESCRIPTION:Join our Prostate Support Group\, a supportive community designed to offer guidance\, information\, and camaraderie for individuals navigating the challenges of prostate cancer. \nIn our meetings\, you’ll find a safe space to share your prostate cancer journey\, connect with others who are on a similar path\, and draw strength from shared experiences. Whether you are newly diagnosed\, in the midst of treatment\, or a long-term survivor\, our group is here to provide support\, knowledge\, and a sense of community. \nJoin us on the 2nd Monday of every month\, either in person in Chandler or online from 6-7pm\, to connect with others who share your prostate cancer journey and gain the support you need to face each day with resilience and hope. \nTo join virtually: Contact socialwork@ironwoodcrc.com \n\nYou don’t have to navigate your cancer journey alone. Research demonstrates that individuals who participate in support groups during their cancer treatment enjoy a wealth of positive benefits. \nAt Ironwood\, we are here for our patients\, offering Support Groups that are welcoming to everyone in the community affected by cancer. Unless otherwise specified\, all our services are provided free of charge. \nFor further details about any of our services\, please reach out to Supportive Care Services at 480-314-6660.
URL:https://www.ironwoodcrc.com/events/prostate-support-group-online-and-in-person-4/
LOCATION:Ironwood Womens Center Chandler\, AZ\, 685 S. Dobson Rd\, Chandler\, AZ\, 85224\, United States
CATEGORIES:Support Groups
ATTACH;FMTTYPE=image/png:https://www.ironwoodcrc.com/wp-content/uploads/2023/11/prostate-support-group-.png
END:VEVENT
END:VCALENDAR